BEGIN:VCALENDAR
VERSION:2.0
PRODID:researchseminars.org
CALSCALE:GREGORIAN
X-WR-CALNAME:researchseminars.org
BEGIN:VEVENT
SUMMARY:Nicola Clinco (SISSA)
DTSTART:20251114T130000Z
DTEND:20251114T140000Z
DTSTAMP:20260423T021036Z
UID:AnJunSem/5
DESCRIPTION:Title: <a href="https://researchseminars.org/talk/AnJunSem/5/"
 >Data-driven LES modelling in CFD: application to the DSEM method</a>\nby 
 Nicola Clinco (SISSA) as part of Analysis Junior Seminars\n\nLecture held 
 in Room 133 in SISSA A building.\nAbstract: TBA\n
LOCATION:https://researchseminars.org/talk/AnJunSem/5/
END:VEVENT
END:VCALENDAR
