BEGIN:VCALENDAR
VERSION:2.0
PRODID:researchseminars.org
CALSCALE:GREGORIAN
X-WR-CALNAME:researchseminars.org
BEGIN:VEVENT
SUMMARY:Mima Stanojkovski (Max Planck Institut fur Mathematik)
DTSTART:20201008T120000Z
DTEND:20201008T130000Z
DTSTAMP:20260423T024746Z
UID:AlBicocca/1
DESCRIPTION:Title: <a href="https://researchseminars.org/talk/AlBicocca/1/
 ">(Strong) isomorphism of p-groups and orbit counting</a>\nby Mima Stanojk
 ovski (Max Planck Institut fur Mathematik) as part of Al@Bicocca take-away
 \n\n\nAbstract\nThe strong isomorphism classes of extensions of finite gro
 ups are parametrized by orbits of a prescribed action on the second cohomo
 logy group. We will look at these orbits in the case of extensions of a fi
 nite abelian p-group by a cyclic factor of order p. As an application\, we
  will compute number and sizes of these orbits when the initial p-group is
  generated by at most 3 elements. This is joint work with Oihana Garaialde
  Ocaña.\n
LOCATION:https://researchseminars.org/talk/AlBicocca/1/
END:VEVENT
END:VCALENDAR
