BEGIN:VCALENDAR
VERSION:2.0
PRODID:researchseminars.org
CALSCALE:GREGORIAN
X-WR-CALNAME:researchseminars.org
BEGIN:VEVENT
SUMMARY:Diane Maclagan (University of Warwick)
DTSTART:20200608T150000Z
DTEND:20200608T163000Z
DTSTAMP:20260423T052500Z
UID:ATOM/1
DESCRIPTION:Title: <a href="https://researchseminars.org/talk/ATOM/1/">Int
 roduction to tropical geometry - Lecture 1</a>\nby Diane Maclagan (Univers
 ity of Warwick) as part of Algebraic and Tropical Online Meetings (ATOM)\n
 \nAbstract: TBA\n
LOCATION:https://researchseminars.org/talk/ATOM/1/
END:VEVENT
END:VCALENDAR
