BEGIN:VCALENDAR
VERSION:2.0
PRODID:researchseminars.org
CALSCALE:GREGORIAN
X-WR-CALNAME:researchseminars.org
BEGIN:VEVENT
SUMMARY:Dominic Williamson (Stanford University)
DTSTART:20200622T171500Z
DTEND:20200622T180500Z
DTSTAMP:20260423T024549Z
UID:ASQC2020/3
DESCRIPTION:Title: <a href="https://researchseminars.org/talk/ASQC2020/3/"
 >Topological measurement-based quantum computation with the 3-fermion mode
 l</a>\nby Dominic Williamson (Stanford University) as part of Algebraic St
 ructures in Quantum Computation\n\nAbstract: TBA\n
LOCATION:https://researchseminars.org/talk/ASQC2020/3/
END:VEVENT
END:VCALENDAR
