BEGIN:VCALENDAR
VERSION:2.0
PRODID:researchseminars.org
CALSCALE:GREGORIAN
X-WR-CALNAME:researchseminars.org
BEGIN:VEVENT
SUMMARY:Ingemar Bengtsson (University of Stockholm)
DTSTART:20200624T155500Z
DTEND:20200624T164500Z
DTSTAMP:20260423T024722Z
UID:ASQC2020/12
DESCRIPTION:Title: <a href="https://researchseminars.org/talk/ASQC2020/12/
 ">Do SICS exist?</a>\nby Ingemar Bengtsson (University of Stockholm) as pa
 rt of Algebraic Structures in Quantum Computation\n\nAbstract: TBA\n
LOCATION:https://researchseminars.org/talk/ASQC2020/12/
END:VEVENT
END:VCALENDAR
