BEGIN:VCALENDAR
VERSION:2.0
PRODID:researchseminars.org
CALSCALE:GREGORIAN
X-WR-CALNAME:researchseminars.org
BEGIN:VEVENT
SUMMARY:Alexandros Grosdos (Osnabrück University)
DTSTART:20200624T173000Z
DTEND:20200624T180000Z
DTSTAMP:20260423T004134Z
UID:AS2020/10
DESCRIPTION:Title: <a href="https://researchseminars.org/talk/AS2020/10/">
 Exact solutions in log-concave maximum likelihood estimation</a>\nby Alexa
 ndros Grosdos (Osnabrück University) as part of Algebraic Statistics 2020
 \n\nAbstract: TBA\n
LOCATION:https://researchseminars.org/talk/AS2020/10/
END:VEVENT
END:VCALENDAR
