BEGIN:VCALENDAR
VERSION:2.0
PRODID:researchseminars.org
CALSCALE:GREGORIAN
X-WR-CALNAME:researchseminars.org
BEGIN:VEVENT
SUMMARY:Nicolas Libedinsky (Universidad de Chile)
DTSTART:20220526T110000Z
DTEND:20220526T120000Z
DTSTAMP:20260423T024446Z
UID:ARCSIN/19
DESCRIPTION:Title: <a href="https://researchseminars.org/talk/ARCSIN/19/">
 Introsurvey of representation theory</a>\nby Nicolas Libedinsky (Universid
 ad de Chile) as part of ARCSIN - Algebra\, Representations\, Combinatorics
  and Symmetric functions in INdia\n\n\nAbstract\nWe will give a summary of
  the paper "Introsurvey of representation theory". We will start with clas
 sical Schur-Weyl duality\, then introduce Iwahori-Hecke algebra and Soerge
 l bimodules. We will finish with some of the fascinating theorems and conj
 ectures around these objects.\n
LOCATION:https://researchseminars.org/talk/ARCSIN/19/
END:VEVENT
END:VCALENDAR
