BEGIN:VCALENDAR
VERSION:2.0
PRODID:researchseminars.org
CALSCALE:GREGORIAN
X-WR-CALNAME:researchseminars.org
BEGIN:VEVENT
SUMMARY:Thierry Bodineau (Ecole Polytechnique)
DTSTART:20200917T150000Z
DTEND:20200917T163000Z
DTSTAMP:20260423T035741Z
UID:AQFP/2
DESCRIPTION:Title: <a href="https://researchseminars.org/talk/AQFP/2/">Log
 -Sobolev inequality for the continuum sine-Gordon model</a>\nby Thierry Bo
 dineau (Ecole Polytechnique) as part of Analysis\, Quantum Fields\, and Pr
 obability\n\nAbstract: TBA\n
LOCATION:https://researchseminars.org/talk/AQFP/2/
END:VEVENT
END:VCALENDAR
