BEGIN:VCALENDAR
VERSION:2.0
PRODID:researchseminars.org
CALSCALE:GREGORIAN
X-WR-CALNAME:researchseminars.org
BEGIN:VEVENT
SUMMARY:Serena Dipierro (University of Western Australia)
DTSTART:20220124T110000Z
DTEND:20220124T130000Z
DTSTAMP:20260423T022840Z
UID:APDESouth/7
DESCRIPTION:Title: <a href="https://researchseminars.org/talk/APDESouth/7/
 ">The Malmheden Theorem and the geometry of harmonic functions I</a>\nby S
 erena Dipierro (University of Western Australia) as part of Analysis and P
 DE from the South - Advanced School\n\n\nAbstract\nIn this course we will 
 present a classical result by Malmheden based on a simple algorithm to det
 ermine theharmonic function in a ball\, knowing its values on the boundary
 . We will also discuss the fractional counterpart\, from which one obtains
  a representation formula for s-harmonic functions as a linear superpositi
 on of weighted classical harmonic functions and a new simple proof of the 
 fractional Harnack inequality.\n\nFor more information go to http://mat.uf
 cg.edu.br/pdefromthesouth/\n
LOCATION:https://researchseminars.org/talk/APDESouth/7/
END:VEVENT
END:VCALENDAR
