BEGIN:VCALENDAR
VERSION:2.0
PRODID:researchseminars.org
CALSCALE:GREGORIAN
X-WR-CALNAME:researchseminars.org
BEGIN:VEVENT
SUMMARY:Enrico Valdinoci (The University of Western Australia)
DTSTART:20210106T120000Z
DTEND:20210106T133000Z
DTSTAMP:20260423T021900Z
UID:APDESouth/2
DESCRIPTION:Title: <a href="https://researchseminars.org/talk/APDESouth/2/
 ">A broad look at elliptic partial differential equations II</a>\nby Enric
 o Valdinoci (The University of Western Australia) as part of Analysis and 
 PDE from the South - Advanced School\n\n\nAbstract\nWe will discuss some c
 lassical (and less classical) topics related to elliptic partial different
 ial equations\, related also to symmetry\, classification and regularity t
 heory. Some applications arising in geometry and material sciences will be
  also presented.\n
LOCATION:https://researchseminars.org/talk/APDESouth/2/
END:VEVENT
END:VCALENDAR
