BEGIN:VCALENDAR
VERSION:2.0
PRODID:researchseminars.org
CALSCALE:GREGORIAN
X-WR-CALNAME:researchseminars.org
BEGIN:VEVENT
SUMMARY:Enrico Valdinoci (The University of Western Australia)
DTSTART:20210104T120000Z
DTEND:20210104T133000Z
DTSTAMP:20260423T040934Z
UID:APDESouth/1
DESCRIPTION:Title: <a href="https://researchseminars.org/talk/APDESouth/1/
 ">A broad look at elliptic partial differential equations I</a>\nby Enrico
  Valdinoci (The University of Western Australia) as part of Analysis and P
 DE from the South - Advanced School\n\n\nAbstract\nWe will discuss some cl
 assical (and less classical) topics related to elliptic partial differenti
 al equations\, related also to symmetry\, classification and regularity th
 eory. Some applications arising in geometry and material sciences will be 
 also presented.\n
LOCATION:https://researchseminars.org/talk/APDESouth/1/
END:VEVENT
END:VCALENDAR
