BEGIN:VCALENDAR
VERSION:2.0
PRODID:researchseminars.org
CALSCALE:GREGORIAN
X-WR-CALNAME:researchseminars.org
BEGIN:VEVENT
SUMMARY:Adélie Garin (EPFL)
DTSTART:20210312T050000Z
DTEND:20210312T053000Z
DTSTAMP:20260423T024449Z
UID:APATG/18
DESCRIPTION:Title: <a href="https://researchseminars.org/talk/APATG/18/">F
 rom Trees to Barcodes and Back Again</a>\nby Adélie Garin (EPFL) as part 
 of Asia Pacific Seminar on Applied Topology and Geometry\n\nAbstract: TBA\
 n
LOCATION:https://researchseminars.org/talk/APATG/18/
END:VEVENT
END:VCALENDAR
