BEGIN:VCALENDAR
VERSION:2.0
PRODID:researchseminars.org
CALSCALE:GREGORIAN
X-WR-CALNAME:researchseminars.org
BEGIN:VEVENT
SUMMARY:Daniel Vallieres (California State University\, Chico)
DTSTART:20211001T190000Z
DTEND:20211001T200000Z
DTSTAMP:20260423T021400Z
UID:ANTULaval/2
DESCRIPTION:Title: <a href="https://researchseminars.org/talk/ANTULaval/2/
 ">An analogue of a theorem of Iwasawa in graph theory</a>\nby Daniel Valli
 eres (California State University\, Chico) as part of Algebra and Number T
 heory Seminars at Université Laval\n\n\nAbstract\nIn the 1950s\, Iwasawa 
 proved his now celebrated theorem on the growth of the p-part of the class
  number in some infinite towers of number fields.  In this talk\, we will 
 explain our recent work in obtaining an analogous result in graph theory i
 nvolving the p-part of the number of spanning trees in some infinite tower
 s of graphs.  Part of this work is joint with Kevin McGown.\n
LOCATION:https://researchseminars.org/talk/ANTULaval/2/
END:VEVENT
END:VCALENDAR
