BEGIN:VCALENDAR
VERSION:2.0
PRODID:researchseminars.org
CALSCALE:GREGORIAN
X-WR-CALNAME:researchseminars.org
BEGIN:VEVENT
SUMMARY:Kiran Kedlaya
DTSTART:20200701T210000Z
DTEND:20200701T212000Z
DTSTAMP:20260423T200135Z
UID:ANTS14/64
DESCRIPTION:Title: <a href="https://researchseminars.org/talk/ANTS14/64/">
 Coffee break: ask me anything</a>\nby Kiran Kedlaya as part of Algorithmic
  Number Theory Symposium (ANTS XIV)\n\n\nAbstract\nAnd I mean anything: nu
 mber theory\, algebraic geometry\, pp-adic anything\, algorithms\, Sage\, 
 teaching with Jupyter\, being a journal editor\, California\, math contest
 s\, game shows\, social justice\, Web sites\, or anything else I didn't th
 ink of. ANTS newcomers especially welcome!\n
LOCATION:https://researchseminars.org/talk/ANTS14/64/
END:VEVENT
END:VCALENDAR
