BEGIN:VCALENDAR
VERSION:2.0
PRODID:researchseminars.org
CALSCALE:GREGORIAN
X-WR-CALNAME:researchseminars.org
BEGIN:VEVENT
SUMMARY:Reinier Broker and Christelle Vincent
DTSTART:20200702T203000Z
DTEND:20200702T210000Z
DTSTAMP:20260423T200913Z
UID:ANTS14/56
DESCRIPTION:Title: <a href="https://researchseminars.org/talk/ANTS14/56/">
 Continuing discussions with session 7 speakers</a>\nby Reinier Broker and 
 Christelle Vincent as part of Algorithmic Number Theory Symposium (ANTS XI
 V)\n\nAbstract: TBA\n
LOCATION:https://researchseminars.org/talk/ANTS14/56/
END:VEVENT
END:VCALENDAR
