BEGIN:VCALENDAR
VERSION:2.0
PRODID:researchseminars.org
CALSCALE:GREGORIAN
X-WR-CALNAME:researchseminars.org
BEGIN:VEVENT
SUMMARY:Kiran Kedlaya (UCSD) and Renate Scheidler (University of Calgary)
DTSTART:20200703T181000Z
DTEND:20200703T190000Z
DTSTAMP:20260423T200405Z
UID:ANTS14/46
DESCRIPTION:Title: <a href="https://researchseminars.org/talk/ANTS14/46/">
 Selfridge prize\, followed by business meeting</a>\nby Kiran Kedlaya (UCSD
 ) and Renate Scheidler (University of Calgary) as part of Algorithmic Numb
 er Theory Symposium (ANTS XIV)\n\n\nAbstract\nThe business meeting will ta
 ke place Friday\, July 3 at 18:10 UTC. Here is the meeting agenda:\n\n<ul>
 \n<li>Announcement of the Selfridge Prize</li>\n<li>Acknowledgements</li>\
 n<li>The ANTS Steering Committee (chair: Renate Scheidler\; vice chair: Ki
 ran Kedlaya)</li>\n<li>The ANTS permanent web site (<a href="https://www.a
 ntsmath.org">antsmath.org</a>)</li>\n<li>Report on ANTS XIV</a>submissions
 \, registrations\, proceedings< (Steven Galbraith)</li>\n<li>Bids for ANTS
  XV</li>\n<ul>\n<li>Bristol (Jonathan Boober\, Andy Booker\, Chloe Martind
 ale)</li>\n<li>Netherlands (Tanja Lange\, Marco Streng\, JaapTop)</li>\n<l
 i>Poll: participation in ANTS XV</li>\n<li>Poll: location preference</li>\
 n</ul>\n<li>ANTS XVI and beyond\, expressions of interest?</li>\n<ul>\n<li
 >MIT (Jennifer Balakrishnan\, Andrew Sutherland\, John Voight)\n</ul>\n<li
 >The Number Theory Foundation (Andrew Sutherland)</li>\n<li>Publication of
  the ANTS proceedings</li>\n<ul>\n<li>A possible alternative: Research in 
 Number Theory (Andrew Sutherland)</li>\n<li>Poll: double-blind refereeing<
 /li>\n<li>Poll: open-access publication charges</li>\n<li>Poll: publicatio
 n venue for ANTS XV</li>\n</ul>\n</ul>\nFor questions\, please ask in this
  thread or email one of:\n<ul>\n<li>ANTS Steering Committee Chair: <a href
 ="mailto:rscheidl@ucalgary.ca">Renate Scheidler</a></li>\n<li>ANTS Steerin
 g Committee Vice Chair: <a href="mailto:kedlaya@ucsd.edu">Kiran Kedlaya</a
 > </li>\n</ul>\n
LOCATION:https://researchseminars.org/talk/ANTS14/46/
END:VEVENT
END:VCALENDAR
