BEGIN:VCALENDAR
VERSION:2.0
PRODID:researchseminars.org
CALSCALE:GREGORIAN
X-WR-CALNAME:researchseminars.org
BEGIN:VEVENT
SUMMARY:Mathieu Dutour Sikirić (Rudjer Bosković Institute)\, Anna Haensc
 h (Duquesne University)\, John Voight (Dartmouth College)\, and Wessel van
  Woerden (Centrum Wiskunde & Informatica)
DTSTART:20200702T170000Z
DTEND:20200702T173000Z
DTSTAMP:20260423T200719Z
UID:ANTS14/17
DESCRIPTION:Title: <a href="https://researchseminars.org/talk/ANTS14/17/">
 A canonical form for positive definite matrices</a>\nby Mathieu Dutour Sik
 irić (Rudjer Bosković Institute)\, Anna Haensch (Duquesne University)\, 
 John Voight (Dartmouth College)\, and Wessel van Woerden (Centrum Wiskunde
  & Informatica) as part of Algorithmic Number Theory Symposium (ANTS XIV)\
 n\nAbstract: TBA\n\nThe slides used in the pre-recorded video can be found
  <a href="http://math.mit.edu/~drew/ANTSXIV/CanonicalFormVideoSlides.pdf">
 here</a>.\n\nChairs: Wouter Castryck and Chloe Martindale\n
LOCATION:https://researchseminars.org/talk/ANTS14/17/
END:VEVENT
END:VCALENDAR
