BEGIN:VCALENDAR
VERSION:2.0
PRODID:researchseminars.org
CALSCALE:GREGORIAN
X-WR-CALNAME:researchseminars.org
BEGIN:VEVENT
SUMMARY:Noam Elkies (Harvard) and Zev Klagsbrun (Center for Communications
  Research)
DTSTART:20200630T183000Z
DTEND:20200630T190000Z
DTSTAMP:20260423T200616Z
UID:ANTS14/10
DESCRIPTION:Title: <a href="https://researchseminars.org/talk/ANTS14/10/">
 New rank records for elliptic curves having rational torsion</a>\nby Noam 
 Elkies (Harvard) and Zev Klagsbrun (Center for Communications Research) as
  part of Algorithmic Number Theory Symposium (ANTS XIV)\n\n\nAbstract\nWe 
 present rank-record breaking elliptic curves having torsion subgroups $\\Z
 /n\\Z$\, for $n=2\,3\,4\,5\,6\,7$.\n\nThe slides used in the pre-recorded 
 video can be found <a href="https://math.mit.edu/~drew/ANTSXIV/NewRankReco
 rdsVideoSlides.pdf">here</a>.\n\nChairs: Tom Fisher and Jen Paulhus\n
LOCATION:https://researchseminars.org/talk/ANTS14/10/
END:VEVENT
END:VCALENDAR
