BEGIN:VCALENDAR
VERSION:2.0
PRODID:researchseminars.org
CALSCALE:GREGORIAN
X-WR-CALNAME:researchseminars.org
BEGIN:VEVENT
SUMMARY:Bao Le Hung (Northwestern University)
DTSTART:20210424T143000Z
DTEND:20210424T153000Z
DTSTAMP:20260423T041341Z
UID:ANTD2021/1
DESCRIPTION:Title: <a href="https://researchseminars.org/talk/ANTD2021/1/"
 >Moduli of Fontaine-Laffaille modules and mod p local-global compatibility
 .</a>\nby Bao Le Hung (Northwestern University) as part of Johns Hopkins U
 niversity & University of Maryland Algebra and Number Theory Day\n\nAbstra
 ct: TBA\n
LOCATION:https://researchseminars.org/talk/ANTD2021/1/
END:VEVENT
END:VCALENDAR
