BEGIN:VCALENDAR
VERSION:2.0
PRODID:researchseminars.org
CALSCALE:GREGORIAN
X-WR-CALNAME:researchseminars.org
BEGIN:VEVENT
SUMMARY:Prof. Dr. Baran Sandor (University of Debrecen\, Hungary)
DTSTART:20260422T140000Z
DTEND:20260422T150000Z
DTSTAMP:20260421T153440Z
UID:AMIS/4
DESCRIPTION:Title: <a href="https://researchseminars.org/talk/AMIS/4/">Fai
 r Scores for Multivariate Gaussian Forecasts</a>\nby Prof. Dr. Baran Sando
 r (University of Debrecen\, Hungary) as part of Asymptotic Methods in Stat
 istics\n\nInteractive livestream: https://knu-ua.zoom.us/j/89643295643?pwd
 =eTBZZSt0d0thZzFyaUhDUFNGTVE3QT09  Passcode (if necessary) 785163\nAbstrac
 t: TBA\n
LOCATION:https://researchseminars.org/talk/AMIS/4/
URL:https://knu-ua.zoom.us/j/89643295643?pwd=eTBZZSt0d0thZzFyaUhDUFNGTVE3Q
 T09  Passcode (if necessary) 785163
END:VEVENT
END:VCALENDAR
