BEGIN:VCALENDAR
VERSION:2.0
PRODID:researchseminars.org
CALSCALE:GREGORIAN
X-WR-CALNAME:researchseminars.org
BEGIN:VEVENT
SUMMARY:Doctor of Phys. and Math. Sc.\, Leading Researcher Sergiy Shklyar 
 (Institute of Geological Sciences NAS of Ukraine)
DTSTART:20260415T140000Z
DTEND:20260415T150000Z
DTSTAMP:20260421T153440Z
UID:AMIS/3
DESCRIPTION:Title: <a href="https://researchseminars.org/talk/AMIS/3/">Mul
 tiframe resolution enhancement in a frequency domain</a>\nby Doctor of Phy
 s. and Math. Sc.\, Leading Researcher Sergiy Shklyar (Institute of Geologi
 cal Sciences NAS of Ukraine) as part of Asymptotic Methods in Statistics\n
 \nAbstract: TBA\n
LOCATION:https://researchseminars.org/talk/AMIS/3/
END:VEVENT
END:VCALENDAR
