BEGIN:VCALENDAR
VERSION:2.0
PRODID:researchseminars.org
CALSCALE:GREGORIAN
X-WR-CALNAME:researchseminars.org
BEGIN:VEVENT
SUMMARY:Christopher Rackauckas (MIT)
DTSTART:20210714T000000Z
DTEND:20210714T004500Z
DTSTAMP:20260423T024030Z
UID:AI4PAN/2
DESCRIPTION:Title: <a href="https://researchseminars.org/talk/AI4PAN/2/">L
 earning Epidemic Models That Extrapolate</a>\nby Christopher Rackauckas (M
 IT) as part of AI for Pandemic Seminars Series\n\nAbstract: TBA\n
LOCATION:https://researchseminars.org/talk/AI4PAN/2/
END:VEVENT
END:VCALENDAR
