BEGIN:VCALENDAR
VERSION:2.0
PRODID:researchseminars.org
CALSCALE:GREGORIAN
X-WR-CALNAME:researchseminars.org
BEGIN:VEVENT
SUMMARY:Fahad Ahmed (Wayne State University)
DTSTART:20220202T000000Z
DTEND:20220202T004500Z
DTSTAMP:20260423T041409Z
UID:AI4PAN/14
DESCRIPTION:Title: <a href="https://researchseminars.org/talk/AI4PAN/14/">
 Actionable outcomes prediction: Mortality prediction in COVID-19 pandemic 
 and beyond</a>\nby Fahad Ahmed (Wayne State University) as part of AI for 
 Pandemic Seminars Series\n\nAbstract: TBA\n
LOCATION:https://researchseminars.org/talk/AI4PAN/14/
END:VEVENT
END:VCALENDAR
