BEGIN:VCALENDAR
VERSION:2.0
PRODID:researchseminars.org
CALSCALE:GREGORIAN
X-WR-CALNAME:researchseminars.org
BEGIN:VEVENT
SUMMARY:Lauren Heller (UC Berkeley)
DTSTART:20210405T200000Z
DTEND:20210405T210000Z
DTSTAMP:20260423T021414Z
UID:AGSAGS/23
DESCRIPTION:Title: <a href="https://researchseminars.org/talk/AGSAGS/23/">
 Characterizations of multigraded regularity on products of projective spac
 es</a>\nby Lauren Heller (UC Berkeley) as part of American Graduate Studen
 t Algebraic Geometry Seminar\n\n\nAbstract\nEisenbud and Goto described th
 e Castelnuovo-Mumford regularity of a sheaf on projective space in terms o
 f three different properties of the corresponding graded module: its betti
  numbers\, its local cohomology\, and its truncations.  For the multigrade
 d generalization of regularity defined by Maclagan and Smith\, these three
  conditions are no longer equivalent.  I will discuss some relationships b
 etween them for sheaves on products of projective spaces.\n
LOCATION:https://researchseminars.org/talk/AGSAGS/23/
END:VEVENT
END:VCALENDAR
