BEGIN:VCALENDAR
VERSION:2.0
PRODID:researchseminars.org
CALSCALE:GREGORIAN
X-WR-CALNAME:researchseminars.org
BEGIN:VEVENT
SUMMARY:Omar Kidwai (University of Birmingham)
DTSTART:20230131T130000Z
DTEND:20230131T140000Z
DTSTAMP:20260423T022007Z
UID:AGPhy/73
DESCRIPTION:Title: <a href="https://researchseminars.org/talk/AGPhy/73/">T
 opological recursion\, BPS structures\, and quantum curves</a>\nby Omar Ki
 dwai (University of Birmingham) as part of Algebra\, Geometry and Physics 
 seminar (MPIM Bonn/HU Berlin)\n\nLecture held in https://hu-berlin.zoom.us
 /j/61686623112.\nAbstract: TBA\n
LOCATION:https://researchseminars.org/talk/AGPhy/73/
END:VEVENT
END:VCALENDAR
