BEGIN:VCALENDAR
VERSION:2.0
PRODID:researchseminars.org
CALSCALE:GREGORIAN
X-WR-CALNAME:researchseminars.org
BEGIN:VEVENT
SUMMARY:Piotr Sniady (IMPAN Torun)
DTSTART:20230117T130000Z
DTEND:20230117T140000Z
DTSTAMP:20260423T040033Z
UID:AGPhy/72
DESCRIPTION:Title: <a href="https://researchseminars.org/talk/AGPhy/72/">M
 useum of visual Asymptotic Representation Theory</a>\nby Piotr Sniady (IMP
 AN Torun) as part of Algebra\, Geometry and Physics seminar (MPIM Bonn/HU 
 Berlin)\n\nLecture held in https://hu-berlin.zoom.us/j/61686623112.\nAbstr
 act: TBA\n
LOCATION:https://researchseminars.org/talk/AGPhy/72/
END:VEVENT
END:VCALENDAR
