BEGIN:VCALENDAR
VERSION:2.0
PRODID:researchseminars.org
CALSCALE:GREGORIAN
X-WR-CALNAME:researchseminars.org
BEGIN:VEVENT
SUMMARY:Ralph Kaufmann (Purdue University)
DTSTART:20221018T120000Z
DTEND:20221018T130000Z
DTSTAMP:20260423T022059Z
UID:AGPhy/62
DESCRIPTION:Title: <a href="https://researchseminars.org/talk/AGPhy/62/">U
 niversal operations on the Tate-Hochschild complex</a>\nby Ralph Kaufmann 
 (Purdue University) as part of Algebra\, Geometry and Physics seminar (MPI
 M Bonn/HU Berlin)\n\nLecture held in https://hu-berlin.zoom.us/j/616866231
 12.\nAbstract: TBA\n
LOCATION:https://researchseminars.org/talk/AGPhy/62/
END:VEVENT
END:VCALENDAR
