BEGIN:VCALENDAR
VERSION:2.0
PRODID:researchseminars.org
CALSCALE:GREGORIAN
X-WR-CALNAME:researchseminars.org
BEGIN:VEVENT
SUMMARY:Ran Tessler (Weizmann Institute of Science\, Israel)
DTSTART:20221025T120000Z
DTEND:20221025T130000Z
DTSTAMP:20260423T022005Z
UID:AGPhy/61
DESCRIPTION:Title: <a href="https://researchseminars.org/talk/AGPhy/61/">N
 ew open r-spin theories</a>\nby Ran Tessler (Weizmann Institute of Science
 \, Israel) as part of Algebra\, Geometry and Physics seminar (MPIM Bonn/HU
  Berlin)\n\nLecture held in https://hu-berlin.zoom.us/j/61686623112.\nAbst
 ract: TBA\n
LOCATION:https://researchseminars.org/talk/AGPhy/61/
END:VEVENT
END:VCALENDAR
