BEGIN:VCALENDAR
VERSION:2.0
PRODID:researchseminars.org
CALSCALE:GREGORIAN
X-WR-CALNAME:researchseminars.org
BEGIN:VEVENT
SUMMARY:Jun-Yong Park (MPIM Bonn)
DTSTART:20220419T114500Z
DTEND:20220419T131500Z
DTSTAMP:20260423T022008Z
UID:AGPhy/48
DESCRIPTION:Title: <a href="https://researchseminars.org/talk/AGPhy/48/">A
 rithmetic topology of the moduli stack of Weierstraß fibrations over glob
 al function fields</a>\nby Jun-Yong Park (MPIM Bonn) as part of Algebra\, 
 Geometry and Physics seminar (MPIM Bonn/HU Berlin)\n\nLecture held in http
 s://hu-berlin.zoom.us/j/61686623112.\nAbstract: TBA\n
LOCATION:https://researchseminars.org/talk/AGPhy/48/
END:VEVENT
END:VCALENDAR
