BEGIN:VCALENDAR
VERSION:2.0
PRODID:researchseminars.org
CALSCALE:GREGORIAN
X-WR-CALNAME:researchseminars.org
BEGIN:VEVENT
SUMMARY:Olaf Hohm (HU Berlin)
DTSTART:20220201T124500Z
DTEND:20220201T141500Z
DTSTAMP:20260423T040036Z
UID:AGPhy/42
DESCRIPTION:Title: <a href="https://researchseminars.org/talk/AGPhy/42/">H
 igher algebras in supergravity and M-theory</a>\nby Olaf Hohm (HU Berlin) 
 as part of Algebra\, Geometry and Physics seminar (MPIM Bonn/HU Berlin)\n\
 nLecture held in https://hu-berlin.zoom.us/j/61686623112.\nAbstract: TBA\n
LOCATION:https://researchseminars.org/talk/AGPhy/42/
END:VEVENT
END:VCALENDAR
