BEGIN:VCALENDAR
VERSION:2.0
PRODID:researchseminars.org
CALSCALE:GREGORIAN
X-WR-CALNAME:researchseminars.org
BEGIN:VEVENT
SUMMARY:Mercedes Haiech (University of Rennes)
DTSTART:20210422T120000Z
DTEND:20210422T130000Z
DTSTAMP:20260423T005805Z
UID:AGNTISTA/33
DESCRIPTION:Title: <a href="https://researchseminars.org/talk/AGNTISTA/33/
 ">The Fundamental Theorem of Tropical Partial Differential Algebraic Geome
 try</a>\nby Mercedes Haiech (University of Rennes) as part of Algebraic Ge
 ometry and Number Theory seminar - ISTA\n\n\nAbstract\nGiven a partial dif
 ferential equation (PDE)\, its solutions can be difficult\, if not impossi
 ble\, to describe.\nThe purpose of the Fundamental theorem of tropical (pa
 rtial) differential algebraic geometry is to extract from the equations ce
 rtain properties of the solutions. \nMore precisely\, this theorem proves 
 that the support of the solutions in $k[[t_1\, \\cdots\, t_m]]$ (with $k$ 
 a field of characteristic zero) can be obtained by solving a so-called tro
 picalized differential system.\n
LOCATION:https://researchseminars.org/talk/AGNTISTA/33/
END:VEVENT
END:VCALENDAR
