BEGIN:VCALENDAR
VERSION:2.0
PRODID:researchseminars.org
CALSCALE:GREGORIAN
X-WR-CALNAME:researchseminars.org
BEGIN:VEVENT
SUMMARY:Rachel Webb (Berkeley)
DTSTART:20211023T143000Z
DTEND:20211023T145000Z
DTSTAMP:20260423T004139Z
UID:AGNES/2
DESCRIPTION:Title: <a href="https://researchseminars.org/talk/AGNES/2/">Th
 e moduli of maps has a canonical obstruction theory</a>\nby Rachel Webb (B
 erkeley) as part of Algebraic Geometry NorthEastern Series (AGNES)\n\n\nAb
 stract\nI will explain why the moduli of maps from tame twisted curves to 
 a fairly general algebraic stack carries a canonical obstruction theory. A
  key ingredient is the construction of a dualizing sheaf and trace map for
  families of tame twisted curves.\n
LOCATION:https://researchseminars.org/talk/AGNES/2/
END:VEVENT
END:VCALENDAR
