BEGIN:VCALENDAR
VERSION:2.0
PRODID:researchseminars.org
CALSCALE:GREGORIAN
X-WR-CALNAME:researchseminars.org
BEGIN:VEVENT
SUMMARY:Peter Crooks (Northeastern University)
DTSTART:20200518T150000Z
DTEND:20200518T155000Z
DTSTAMP:20260423T023930Z
UID:AGCOnline/1
DESCRIPTION:Title: <a href="https://researchseminars.org/talk/AGCOnline/1/
 ">Some geometric aspects of Hessenberg varieties</a>\nby Peter Crooks (Nor
 theastern University) as part of Algebra\, Geometry\, and Combinatorics\n\
 nAbstract: TBA\n
LOCATION:https://researchseminars.org/talk/AGCOnline/1/
END:VEVENT
END:VCALENDAR
