BEGIN:VCALENDAR
VERSION:2.0
PRODID:researchseminars.org
CALSCALE:GREGORIAN
X-WR-CALNAME:researchseminars.org
BEGIN:VEVENT
SUMMARY:Ananth Shankar (University of Wisconsin)
DTSTART:20210628T151000Z
DTEND:20210628T160000Z
DTSTAMP:20260419T121748Z
UID:AFDRT/2
DESCRIPTION:Title: <a href="https://researchseminars.org/talk/AFDRT/2/">Ab
 elian varieties not isogenous to Jacobians over global fields</a>\nby Anan
 th Shankar (University of Wisconsin) as part of Around Frobenius distribut
 ions and related topics II\n\n\nAbstract\nLet K be the algebraic closure o
 f a global field of any characteristic. For every $g>3$ we prove that ther
 e exists a g-dimensional abelian variety over K which is not isogenous to 
 a Jacobian.  This is joint work with Jacob Tsimerman.\n
LOCATION:https://researchseminars.org/talk/AFDRT/2/
END:VEVENT
END:VCALENDAR
