BEGIN:VCALENDAR
VERSION:2.0
PRODID:researchseminars.org
CALSCALE:GREGORIAN
X-WR-CALNAME:researchseminars.org
BEGIN:VEVENT
SUMMARY:Leonie Neufeld (Universität Bielefeld\, GER)
DTSTART:20250319T130000Z
DTEND:20250319T140000Z
DTSTAMP:20260423T021033Z
UID:ADPS/48
DESCRIPTION:Title: <a href="https://researchseminars.org/talk/ADPS/48/">We
 ighted Sums in Free Probability Theory</a>\nby Leonie Neufeld (Universitä
 t Bielefeld\, GER) as part of Abu Dhabi Stochastics Seminar\n\nAbstract: T
 BA\n
LOCATION:https://researchseminars.org/talk/ADPS/48/
END:VEVENT
END:VCALENDAR
