BEGIN:VCALENDAR
VERSION:2.0
PRODID:researchseminars.org
CALSCALE:GREGORIAN
X-WR-CALNAME:researchseminars.org
BEGIN:VEVENT
SUMMARY:Vincent Vargas (École normale supérieure)
DTSTART:20240223T060000Z
DTEND:20240223T070000Z
DTSTAMP:20260423T035412Z
UID:ADPS/33
DESCRIPTION:Title: <a href="https://researchseminars.org/talk/ADPS/33/">pr
 obabilistic construction of the two-dimensional sinh model in quantum fiel
 d theory</a>\nby Vincent Vargas (École normale supérieure) as part of Ab
 u Dhabi Stochastics Seminar\n\nAbstract: TBA\n
LOCATION:https://researchseminars.org/talk/ADPS/33/
END:VEVENT
END:VCALENDAR
