BEGIN:VCALENDAR
VERSION:2.0
PRODID:researchseminars.org
CALSCALE:GREGORIAN
X-WR-CALNAME:researchseminars.org
BEGIN:VEVENT
SUMMARY:Benjamin Dadoun (New York University Abu Dhabi)
DTSTART:20230222T140000Z
DTEND:20230222T150000Z
DTSTAMP:20260423T021134Z
UID:ADPS/15
DESCRIPTION:Title: <a href="https://researchseminars.org/talk/ADPS/15/">Mo
 notonicity of the logarithmic energy for random matrices</a>\nby Benjamin 
 Dadoun (New York University Abu Dhabi) as part of Abu Dhabi Stochastics Se
 minar\n\n\nAbstract\nIn this talk I will present an entropy functional for
  the mean empirical spectral distribution of random matrices which appears
  to be monotonic along the classical limit theorems of Wigner\, Tao−Vu a
 nd Marčenko−Pastur. I will first give some motivation by recalling know
 n monotonicities of entropy such as Shannon's entropy along the central li
 mit theorem or Boltzmann's H-theorem of thermodynamics. Based on joint wor
 k with D. Chafaï and P. Youssef.\n
LOCATION:https://researchseminars.org/talk/ADPS/15/
END:VEVENT
END:VCALENDAR
