BEGIN:VCALENDAR
VERSION:2.0
PRODID:researchseminars.org
CALSCALE:GREGORIAN
X-WR-CALNAME:researchseminars.org
BEGIN:VEVENT
SUMMARY:Gordon Plotkin (University of Edinburgh)
DTSTART:20200520T170000Z
DTEND:20200520T180000Z
DTSTAMP:20260423T005744Z
UID:ACTUCR/6
DESCRIPTION:Title: <a href="https://researchseminars.org/talk/ACTUCR/6/">A
  complete axiomatisation of partial differentiation</a>\nby Gordon Plotkin
  (University of Edinburgh) as part of ACT@UCR\n\nAbstract: TBA\n
LOCATION:https://researchseminars.org/talk/ACTUCR/6/
END:VEVENT
END:VCALENDAR
