BEGIN:VCALENDAR
VERSION:2.0
PRODID:researchseminars.org
CALSCALE:GREGORIAN
X-WR-CALNAME:researchseminars.org
BEGIN:VEVENT
SUMMARY:Gerald Dunne (University of Connecticut)
DTSTART:20211029T130000Z
DTEND:20211029T140000Z
DTSTAMP:20260423T021606Z
UID:ACPMS/11
DESCRIPTION:Title: <a href="https://researchseminars.org/talk/ACPMS/11/">R
 esurgent Trans-series in Hopf-Algebraic Dyson-Schwinger Equations</a>\nby 
 Gerald Dunne (University of Connecticut) as part of Algebraic and Combinat
 orial Perspectives in the Mathematical Sciences\n\nAbstract: TBA\n
LOCATION:https://researchseminars.org/talk/ACPMS/11/
END:VEVENT
END:VCALENDAR
