BEGIN:VCALENDAR
VERSION:2.0
PRODID:researchseminars.org
CALSCALE:GREGORIAN
X-WR-CALNAME:researchseminars.org
BEGIN:VEVENT
SUMMARY:Sophie Spirkl (University of Waterloo)
DTSTART:20211022T130000Z
DTEND:20211022T140000Z
DTSTAMP:20260423T021605Z
UID:ACPMS/10
DESCRIPTION:Title: <a href="https://researchseminars.org/talk/ACPMS/10/">M
 odular relations for the Tutte symmetric function</a>\nby Sophie Spirkl (U
 niversity of Waterloo) as part of Algebraic and Combinatorial Perspectives
  in the Mathematical Sciences\n\n\nAbstract\nThe Tutte symmetric function 
 XB generalizes both the Tutte polynomial and the chromatic symmetric funct
 ion X. In this talk\, I'll discuss a modular relation for XB analogous to 
 the Orellana-Scott relation for X\, general results for modular relations 
 for XB and X\, and applications.\nJoint work with Logan Crew.\n
LOCATION:https://researchseminars.org/talk/ACPMS/10/
END:VEVENT
END:VCALENDAR
