BEGIN:VCALENDAR
VERSION:2.0
PRODID:researchseminars.org
CALSCALE:GREGORIAN
X-WR-CALNAME:researchseminars.org
BEGIN:VEVENT
SUMMARY:Emina Soljanin (Rutgers University)
DTSTART:20200519T150000Z
DTEND:20200519T160000Z
DTSTAMP:20260423T021044Z
UID:ACCESS/1
DESCRIPTION:Title: <a href="https://researchseminars.org/talk/ACCESS/1/">S
 ervice Rates in Distributed Storage with Redundancy</a>\nby Emina Soljanin
  (Rutgers University) as part of Algebraic Coding and Cryptography on the 
 East coast Seminar Series\n\nAbstract: TBA\n
LOCATION:https://researchseminars.org/talk/ACCESS/1/
END:VEVENT
END:VCALENDAR
