BEGIN:VCALENDAR
VERSION:2.0
PRODID:researchseminars.org
CALSCALE:GREGORIAN
X-WR-CALNAME:researchseminars.org
BEGIN:VEVENT
SUMMARY:Lewis Mead (Queen MaryUniversity of London)
DTSTART:20200527T150000Z
DTEND:20200527T160000Z
DTSTAMP:20260423T052708Z
UID:AATRN/7
DESCRIPTION:Title: <a href="https://researchseminars.org/talk/AATRN/7/">Fr
 om large to infinite random simplicial complexes</a>\nby Lewis Mead (Queen
  MaryUniversity of London) as part of Applied algebraic topology research 
 network\n\nAbstract: TBA\n
LOCATION:https://researchseminars.org/talk/AATRN/7/
END:VEVENT
END:VCALENDAR
