BEGIN:VCALENDAR
VERSION:2.0
PRODID:researchseminars.org
CALSCALE:GREGORIAN
X-WR-CALNAME:researchseminars.org
BEGIN:VEVENT
SUMMARY:Gugan Thoppe (Indian Institute of Science)
DTSTART:20200415T153000Z
DTEND:20200415T163000Z
DTSTAMP:20260423T052807Z
UID:AATRN/1
DESCRIPTION:Title: <a href="https://researchseminars.org/talk/AATRN/1/">Be
 haviour in the bulk and the extremes of online minimal spanning acycles</a
 >\nby Gugan Thoppe (Indian Institute of Science) as part of Applied algebr
 aic topology research network\n\nAbstract: TBA\n
LOCATION:https://researchseminars.org/talk/AATRN/1/
END:VEVENT
END:VCALENDAR
