BEGIN:VCALENDAR
VERSION:2.0
PRODID:researchseminars.org
CALSCALE:GREGORIAN
X-WR-CALNAME:researchseminars.org
BEGIN:VEVENT
SUMMARY:Alexander Shen (CNRS - LIRMM)
DTSTART:20221207T160000Z
DTEND:20221207T171500Z
DTSTAMP:20260423T021355Z
UID:AAIT/1
DESCRIPTION:Title: <a href="https://researchseminars.org/talk/AAIT/1/">Inf
 ormation inequalities: combinatorial interpretation</a>\nby Alexander Shen
  (CNRS - LIRMM) as part of Seminar on Algorithmic Aspects of Information T
 heory\n\nAbstract: TBA\n
LOCATION:https://researchseminars.org/talk/AAIT/1/
END:VEVENT
END:VCALENDAR
