BEGIN:VCALENDAR
VERSION:2.0
PRODID:researchseminars.org
CALSCALE:GREGORIAN
X-WR-CALNAME:researchseminars.org
BEGIN:VEVENT
SUMMARY:Alberto Raffero (University of Torino)
DTSTART:20220822T080000Z
DTEND:20220822T093000Z
DTSTAMP:20260423T024614Z
UID:8thGTSS/9
DESCRIPTION:Title: <a href="https://researchseminars.org/talk/8thGTSS/9/">
 Lectures on closed G_2 structures</a>\nby Alberto Raffero (University of T
 orino) as part of 8th GTSS Geometry-Topology Summer School\n\nAbstract: TB
 A\n
LOCATION:https://researchseminars.org/talk/8thGTSS/9/
END:VEVENT
END:VCALENDAR
