BEGIN:VCALENDAR
VERSION:2.0
PRODID:researchseminars.org
CALSCALE:GREGORIAN
X-WR-CALNAME:researchseminars.org
BEGIN:VEVENT
SUMMARY:Buket Can Bahadır (METU)
DTSTART:20200717T113000Z
DTEND:20200717T130000Z
DTSTAMP:20260423T041220Z
UID:5thGTSS/27
DESCRIPTION:Title: <a href="https://researchseminars.org/talk/5thGTSS/27/"
 >Special metrics in complex analysis 4</a>\nby Buket Can Bahadır (METU) a
 s part of 5th GTSS Geometry-Topology Summer School\n\nAbstract: TBA\n
LOCATION:https://researchseminars.org/talk/5thGTSS/27/
END:VEVENT
END:VCALENDAR
