BEGIN:VCALENDAR
VERSION:2.0
PRODID:researchseminars.org
CALSCALE:GREGORIAN
X-WR-CALNAME:researchseminars.org
BEGIN:VEVENT
SUMMARY:Vamsi Pritham Pingali (Indian Institute of Science)
DTSTART:20200708T073000Z
DTEND:20200708T090000Z
DTSTAMP:20260423T041033Z
UID:5thGTSS/21
DESCRIPTION:Title: <a href="https://researchseminars.org/talk/5thGTSS/21/"
 >The Calabi Conjectures 3</a>\nby Vamsi Pritham Pingali (Indian Institute 
 of Science) as part of 5th GTSS Geometry-Topology Summer School\n\nAbstrac
 t: TBA\n
LOCATION:https://researchseminars.org/talk/5thGTSS/21/
END:VEVENT
END:VCALENDAR
