BEGIN:VCALENDAR
VERSION:2.0
PRODID:researchseminars.org
CALSCALE:GREGORIAN
X-WR-CALNAME:researchseminars.org
BEGIN:VEVENT
SUMMARY:Caner Unal (Ben Gurion University)
DTSTART:20201204T162000Z
DTEND:20201204T164000Z
DTSTAMP:20260423T024453Z
UID:3rdSADMW/49
DESCRIPTION:Title: <a href="https://researchseminars.org/talk/3rdSADMW/49/
 ">PBH constraints from CMB and pulsar time arrays</a>\nby Caner Unal (Ben 
 Gurion University) as part of 3rd ICTP-SAIFR South American Dark Matter Wo
 rkshop\n\nAbstract: TBA\n
LOCATION:https://researchseminars.org/talk/3rdSADMW/49/
END:VEVENT
END:VCALENDAR
