BEGIN:VCALENDAR
VERSION:2.0
PRODID:researchseminars.org
CALSCALE:GREGORIAN
X-WR-CALNAME:researchseminars.org
BEGIN:VEVENT
SUMMARY:Ibrahim Safa (Harvard University)
DTSTART:20201204T140500Z
DTEND:20201204T142000Z
DTSTAMP:20260423T024506Z
UID:3rdSADMW/43
DESCRIPTION:Title: <a href="https://researchseminars.org/talk/3rdSADMW/43/
 ">DM with a Panopticon of Neutrino Detectors</a>\nby Ibrahim Safa (Harvard
  University) as part of 3rd ICTP-SAIFR South American Dark Matter Workshop
 \n\nAbstract: TBA\n
LOCATION:https://researchseminars.org/talk/3rdSADMW/43/
END:VEVENT
END:VCALENDAR
