BEGIN:VCALENDAR
VERSION:2.0
PRODID:researchseminars.org
CALSCALE:GREGORIAN
X-WR-CALNAME:researchseminars.org
BEGIN:VEVENT
SUMMARY:Peter Reimitz (IFT-Heidelberg)
DTSTART:20201204T131500Z
DTEND:20201204T133000Z
DTSTAMP:20260423T024532Z
UID:3rdSADMW/40
DESCRIPTION:Title: <a href="https://researchseminars.org/talk/3rdSADMW/40/
 ">Hadronic footprint GeV DM</a>\nby Peter Reimitz (IFT-Heidelberg) as part
  of 3rd ICTP-SAIFR South American Dark Matter Workshop\n\nAbstract: TBA\n
LOCATION:https://researchseminars.org/talk/3rdSADMW/40/
END:VEVENT
END:VCALENDAR
